BEGIN:VCALENDAR
VERSION:2.0
PRODID:-//SafeData - ECPv6.4.0.1//NONSGML v1.0//EN
CALSCALE:GREGORIAN
METHOD:PUBLISH
X-ORIGINAL-URL:https://safedata.gr
X-WR-CALDESC:Events for SafeData
REFRESH-INTERVAL;VALUE=DURATION:PT1H
X-Robots-Tag:noindex
X-PUBLISHED-TTL:PT1H
BEGIN:VTIMEZONE
TZID:UTC
BEGIN:STANDARD
TZOFFSETFROM:+0000
TZOFFSETTO:+0000
TZNAME:UTC
DTSTART:20220101T000000
END:STANDARD
END:VTIMEZONE
BEGIN:VEVENT
DTSTART;VALUE=DATE:20220615
DTEND;VALUE=DATE:20220616
DTSTAMP:20260426T013138
CREATED:20210518T111618Z
LAST-MODIFIED:20210518T111618Z
UID:213-1655251200-1655337599@safedata.gr
SUMMARY:Board Meeting
DESCRIPTION:I have traced the Rebel spies to her. Now she is my only link to finding their secret base. What?! I care. So\, what do you think of her\, Han? The Force is strong with this one. I have you now. But with the blast shield down\, I can’t even see! How am I supposed to fight? Red Five standing by. \n\n\n\n\n\n\n\n\n\n 
URL:https://safedata.gr/event/board-meeting/
LOCATION:The Beanery\, 500 SW 2nd St\, Corvallis\, 97330\, United States
CATEGORIES:Meeting
ATTACH;FMTTYPE=image/jpeg:https://safedata.gr/wp-content/uploads/2021/05/shutterstock_727613272-scaled-1.jpg
END:VEVENT
END:VCALENDAR